BEGIN:VCALENDAR
VERSION:2.0
PRODID:-//La Brasserie de Mars - ECPv6.15.20//NONSGML v1.0//EN
CALSCALE:GREGORIAN
METHOD:PUBLISH
X-WR-CALNAME:La Brasserie de Mars
X-ORIGINAL-URL:https://brasseriedemars.com
X-WR-CALDESC:Évènements pour La Brasserie de Mars
REFRESH-INTERVAL;VALUE=DURATION:PT1H
X-Robots-Tag:noindex
X-PUBLISHED-TTL:PT1H
BEGIN:VTIMEZONE
TZID:Europe/Paris
BEGIN:DAYLIGHT
TZOFFSETFROM:+0100
TZOFFSETTO:+0200
TZNAME:CEST
DTSTART:20230326T010000
END:DAYLIGHT
BEGIN:STANDARD
TZOFFSETFROM:+0200
TZOFFSETTO:+0100
TZNAME:CET
DTSTART:20231029T010000
END:STANDARD
BEGIN:DAYLIGHT
TZOFFSETFROM:+0100
TZOFFSETTO:+0200
TZNAME:CEST
DTSTART:20240331T010000
END:DAYLIGHT
BEGIN:STANDARD
TZOFFSETFROM:+0200
TZOFFSETTO:+0100
TZNAME:CET
DTSTART:20241027T010000
END:STANDARD
BEGIN:DAYLIGHT
TZOFFSETFROM:+0100
TZOFFSETTO:+0200
TZNAME:CEST
DTSTART:20250330T010000
END:DAYLIGHT
BEGIN:STANDARD
TZOFFSETFROM:+0200
TZOFFSETTO:+0100
TZNAME:CET
DTSTART:20251026T010000
END:STANDARD
END:VTIMEZONE
BEGIN:VEVENT
DTSTART;TZID=Europe/Paris:20241122T190000
DTEND;TZID=Europe/Paris:20241122T230000
DTSTAMP:20260420T103308
CREATED:20241029T125835Z
LAST-MODIFIED:20241029T125835Z
UID:3323-1732302000-1732316400@brasseriedemars.com
SUMMARY:Musiciens JAZZ Manouche
DESCRIPTION:Ce vendredi à la Brasserie de Mars on accueille de nouveau nos voisins musiciens! \nVenez retrouver Bastien et JP à la guitare\,  Alessandro au saxo et Sitraka au violon et au chant. Le quatuor promet de nous faire vibrer sous le signe du jazz manouche. \nEntrée libre et ouverte à tous! \nAlors on vous attend à partir de 19h pour vous remplir le ventre avec notre cuisine colorée et vous désaltérer grâce à nos bières brassées sur place. \nPensez à réserver si vous avez une préférence entre terrasse et intérieur.
URL:https://brasseriedemars.com/evenements/musiciens-jazz-manouche/
LOCATION:Brasserie de Mars\, 148 Rue Saint-Pierre\, 13005 Marsei\, Marseille\, Provence-Alpes-Côte d'Azur\, 13005\, France
ATTACH;FMTTYPE=image/png:https://brasseriedemars.com/wp-content/uploads/2024/10/JAZZMAN-1.png
END:VEVENT
END:VCALENDAR